BEGIN:VCALENDAR
VERSION:2.0
PRODID:-//eventon.com NONSGML v1.0//EN
CALSCALE:GREGORIAN
METHOD:PUBLISH
BEGIN:VEVENT
UID:69e91ba7abf84
DTSTAMP:20260423T020407
DTSTART:20230218T010000Z
DTEND:20230218T030000Z
TZID:Pacific/Midway
LOCATION:
SUMMARY:Information Session in Oudomxay (Information Session)
DESCRIPTION: Information Session in Oudomxay (Information Session)\nhttps://australiaawardslaos.org/events/information-session-in-oudomxay-information-session/
URL:https://australiaawardslaos.org/events/information-session-in-oudomxay-information-session/
END:VEVENT
END:VCALENDAR