BEGIN:VCALENDAR
VERSION:2.0
PRODID:-//eventon.com NONSGML v1.0//EN
CALSCALE:GREGORIAN
METHOD:PUBLISH
BEGIN:VEVENT
UID:69e6d5da270b6
DTSTAMP:20260421T084146
DTSTART:20230615T153400Z
DTEND:20230615T153400Z
TZID:Pacific/Midway
LOCATION:
SUMMARY:IELTS Test For Group 1
DESCRIPTION: IELTS Test For Group 1\nhttps://australiaawardslaos.org/events/ielts-test-for-group-1/
URL:https://australiaawardslaos.org/events/ielts-test-for-group-1/
END:VEVENT
END:VCALENDAR