BEGIN:VCALENDAR
VERSION:2.0
PRODID:-//eventon.com NONSGML v1.0//EN
CALSCALE:GREGORIAN
METHOD:PUBLISH
BEGIN:VEVENT
UID:69e5f9b366dca
DTSTAMP:20260420T170227
DTSTART:20250319T060000Z
DTEND:20250319T090000Z
TZID:Asia/Bangkok
LOCATION:
SUMMARY:Wednesday\,  19 Mar Information Session: Salavan Province at Salavan Provincial Conference Hall
DESCRIPTION: Wednesday\,  19 Mar Information Session: Salavan Province at Salavan Provincial Conference Hall\nhttps://australiaawardslaos.org/events/information-session-salavan-province-at-salavan-provincial-conference-hall/
URL:https://australiaawardslaos.org/events/information-session-salavan-province-at-salavan-provincial-conference-hall/
END:VEVENT
END:VCALENDAR