BEGIN:VCALENDAR
VERSION:2.0
PRODID:-//eventon.com NONSGML v1.0//EN
CALSCALE:GREGORIAN
METHOD:PUBLISH
BEGIN:VEVENT
UID:69e89c69ceae6
DTSTAMP:20260422T170113
DTSTART:20250131T170000Z
DTEND:20250201T135900Z
TZID:Asia/Bangkok
LOCATION:
SUMMARY:Application Opening Date (Saturday 1 February – Wednesday 30 April 2025\,  20:59 Laos Time)
DESCRIPTION: Application Opening Date (Saturday 1 February – Wednesday 30 April 2025\,  20:59 Laos Time)\nhttps://australiaawardslaos.org/events/application-opening-and-closing-dates/
URL:https://australiaawardslaos.org/events/application-opening-and-closing-dates/
END:VEVENT
END:VCALENDAR